BEGIN:VCALENDAR
VERSION:2.0
PRODID:-//Spartan Scuba and Dive Team - ECPv6.15.20//NONSGML v1.0//EN
CALSCALE:GREGORIAN
METHOD:PUBLISH
X-ORIGINAL-URL:https://spartandiveteam.com
X-WR-CALDESC:Events for Spartan Scuba and Dive Team
REFRESH-INTERVAL;VALUE=DURATION:PT1H
X-Robots-Tag:noindex
X-PUBLISHED-TTL:PT1H
BEGIN:VTIMEZONE
TZID:America/Los_Angeles
BEGIN:DAYLIGHT
TZOFFSETFROM:-0800
TZOFFSETTO:-0700
TZNAME:PDT
DTSTART:20250309T100000
END:DAYLIGHT
BEGIN:STANDARD
TZOFFSETFROM:-0700
TZOFFSETTO:-0800
TZNAME:PST
DTSTART:20251102T090000
END:STANDARD
BEGIN:DAYLIGHT
TZOFFSETFROM:-0800
TZOFFSETTO:-0700
TZNAME:PDT
DTSTART:20260308T100000
END:DAYLIGHT
BEGIN:STANDARD
TZOFFSETFROM:-0700
TZOFFSETTO:-0800
TZNAME:PST
DTSTART:20261101T090000
END:STANDARD
BEGIN:DAYLIGHT
TZOFFSETFROM:-0800
TZOFFSETTO:-0700
TZNAME:PDT
DTSTART:20270314T100000
END:DAYLIGHT
BEGIN:STANDARD
TZOFFSETFROM:-0700
TZOFFSETTO:-0800
TZNAME:PST
DTSTART:20271107T090000
END:STANDARD
END:VTIMEZONE
BEGIN:VEVENT
DTSTART;TZID=America/Los_Angeles:20260511T050000
DTEND;TZID=America/Los_Angeles:20260511T180000
DTSTAMP:20260422T070711
CREATED:20260417T203622Z
LAST-MODIFIED:20260417T203622Z
UID:14617-1778475600-1778522400@spartandiveteam.com
SUMMARY:SCUBA Dive Hood Canal - Sunrise Dive Park
DESCRIPTION:Come SCUBA Dive Hood Canal and the Sunrise Dive Park with Spartan SCUBA & Dive Team.\nWe’ve picked a deliciously random Monday in May to slap on our superhero outfits\, slip beneath the calm\, cool water\, and dive. Want to join us? \nJust diving\, no classes!\nWe’ve just returned from Cozumel and need to reacclimate ourselves to the exceptional offerings of the Pacific Northwest. What better way to do that than to SCUBA dive Hood Canal in our very own Sunrise Dive Park? Complete with on-site air fills\, rinse station\, and diver bathroom\, this is our home away from home! \nWe will be leaving the shop around 0445\, with an ETA of 0745 (of course we’re stopping for breakfast!). The plan is to sneak in at least four dives\, depending on depth and activity\, and then pack up and head home between 1-2pm. This gives us enough time to stop for our usual mid-trip food sesh at Casa Ramos in Centralia\, getting back to the shop between 5-6pm. \nResort offerings and details.\n\nThere is a $20 +tax/person day use fee.\nCylinder fills are available on-site for $10 +tax/cylinder.\nHot tub is up and running!\nClick here for the resort website.\nClick HERE for our Spartan Sunrise page!\n\nWe can help coordinate rides.\nIf you need a ride\, or want to try and share the trip with a buddy\, just let us know on the RSVP below and we’ll see what we can do to help coordinate. \nLooking forward to seeing you all at this non-guided\, non-shop-event\, no-classes dive day.
URL:https://spartandiveteam.com/events/scuba-dive-hood-canal-sunrise/
LOCATION:Sunrise Resort on Hood Canal\, 24520 Hwy 101\, Hoodsport\, WA\, 98548\, United States
CATEGORIES:Group Dive,Local,Sunrise,Water: Salt
ATTACH;FMTTYPE=image/png:https://spartandiveteam.com/wp-content/uploads/2024/07/Sunrise.png
ORGANIZER;CN="Doc":MAILTO:doc@spartandiveteam.com
END:VEVENT
END:VCALENDAR