BEGIN:VCALENDAR
VERSION:2.0
PRODID:-//Spartan Scuba and Dive Team - ECPv6.15.20//NONSGML v1.0//EN
CALSCALE:GREGORIAN
METHOD:PUBLISH
X-WR-CALNAME:Spartan Scuba and Dive Team
X-ORIGINAL-URL:https://spartandiveteam.com
X-WR-CALDESC:Events for Spartan Scuba and Dive Team
REFRESH-INTERVAL;VALUE=DURATION:PT1H
X-Robots-Tag:noindex
X-PUBLISHED-TTL:PT1H
BEGIN:VTIMEZONE
TZID:America/Los_Angeles
BEGIN:DAYLIGHT
TZOFFSETFROM:-0800
TZOFFSETTO:-0700
TZNAME:PDT
DTSTART:20250309T100000
END:DAYLIGHT
BEGIN:STANDARD
TZOFFSETFROM:-0700
TZOFFSETTO:-0800
TZNAME:PST
DTSTART:20251102T090000
END:STANDARD
BEGIN:DAYLIGHT
TZOFFSETFROM:-0800
TZOFFSETTO:-0700
TZNAME:PDT
DTSTART:20260308T100000
END:DAYLIGHT
BEGIN:STANDARD
TZOFFSETFROM:-0700
TZOFFSETTO:-0800
TZNAME:PST
DTSTART:20261101T090000
END:STANDARD
BEGIN:DAYLIGHT
TZOFFSETFROM:-0800
TZOFFSETTO:-0700
TZNAME:PDT
DTSTART:20270314T100000
END:DAYLIGHT
BEGIN:STANDARD
TZOFFSETFROM:-0700
TZOFFSETTO:-0800
TZNAME:PST
DTSTART:20271107T090000
END:STANDARD
END:VTIMEZONE
BEGIN:VEVENT
DTSTART;VALUE=DATE:20260626
DTEND;VALUE=DATE:20260630
DTSTAMP:20260424T062403
CREATED:20260422T232500Z
LAST-MODIFIED:20260422T232500Z
UID:14643-1782432000-1782777599@spartandiveteam.com
SUMMARY:Hoodsport SCUBA Weekend in June
DESCRIPTION:Wanna get under water? Join us for a Hoodsport SCUBA Weekend in June!\nThe Spartans will be headed up for our monthly drive-to-dive weekend\, staying at the beautiful Sunrise Resort on Hood Canal. We have limited space in the mini-dorm for those looking to crash in a bunk – grab your spot soon! \nLooking for more information to enhance your Hoodsport SCUBA Weekend? Check out our Sunrise Page for a map of the dive park. \nThe Schedule\n\nFriday is a fun day – no classes or training.\nSaturday and Sunday – we’ll put in all the work to help you achieve your bubble blowing dreams!\nMonday – slow pack out and bounce\n\nResort Logistics\n\nDay use fee of $20 + WA tax\nTank fills are $10 + WA tax each\nHot tub is up and working!\n\nHope to see you there!
URL:https://spartandiveteam.com/events/hoodsport-scuba-weekend-in-june/
LOCATION:Sunrise Resort on Hood Canal\, 24520 Hwy 101\, Hoodsport\, WA\, 98548\, United States
CATEGORIES:Group Dive,Local,Sunrise,Training,Water: Salt
ATTACH;FMTTYPE=image/jpeg:https://spartandiveteam.com/wp-content/uploads/2025/05/MICR0092-scaled-e1776878809202.jpg
ORGANIZER;CN="Doc":MAILTO:doc@spartandiveteam.com
END:VEVENT
END:VCALENDAR